Package: HiContacts Version: 1.6.0 Command: rm -rf HiContacts.buildbin-libdir && mkdir HiContacts.buildbin-libdir && E:\biocbuild\bbs-3.19-bioc\R\bin\R.exe CMD INSTALL --build --library=HiContacts.buildbin-libdir HiContacts_1.6.0.tar.gz StartedAt: 2024-10-17 07:57:13 -0400 (Thu, 17 Oct 2024) EndedAt: 2024-10-17 07:57:54 -0400 (Thu, 17 Oct 2024) EllapsedTime: 41.1 seconds RetCode: 0 Status: OK PackageFile: HiContacts_1.6.0.zip PackageFileSize: 4.144 MiB