Package: HiCool Version: 1.4.0 Command: /Library/Frameworks/R.framework/Resources/bin/R CMD build --keep-empty-dirs --no-resave-data HiCool StartedAt: 2024-06-09 16:57:00 -0400 (Sun, 09 Jun 2024) EndedAt: 2024-06-09 16:58:41 -0400 (Sun, 09 Jun 2024) EllapsedTime: 101.2 seconds RetCode: 0 Status: OK PackageFile: HiCool_1.4.0.tar.gz PackageFileSize: 701.7 KiB