Package: HiCool Version: 1.4.0 Command: rm -rf HiCool.buildbin-libdir && mkdir HiCool.buildbin-libdir && /Users/biocbuild/BBS/utils/build-universal.sh HiCool_1.4.0.tar.gz /Library/Frameworks/R.framework/Resources/bin/R HiCool.buildbin-libdir StartedAt: 2024-08-26 15:08:49 -0400 (Mon, 26 Aug 2024) EndedAt: 2024-08-26 15:09:40 -0400 (Mon, 26 Aug 2024) EllapsedTime: 51.2 seconds RetCode: 0 Status: OK PackageFile: HiCool_1.4.0.tgz PackageFileSize: 729.4 KiB