Package: HiCool Version: 1.4.0 Command: /home/biocbuild/bbs-3.19-bioc/R/bin/R CMD check --install=check:HiCool.install-out.txt --library=/home/biocbuild/bbs-3.19-bioc/R/site-library --timings HiCool_1.4.0.tar.gz StartedAt: 2024-10-17 01:24:01 -0400 (Thu, 17 Oct 2024) EndedAt: 2024-10-17 01:31:01 -0400 (Thu, 17 Oct 2024) EllapsedTime: 420.0 seconds RetCode: 0 Status: OK CheckDir: HiCool.Rcheck Warnings: 0