Package: HicAggR Version: 1.0.2 Command: /Library/Frameworks/R.framework/Resources/bin/R CMD INSTALL HicAggR StartedAt: 2024-10-16 16:28:31 -0400 (Wed, 16 Oct 2024) EndedAt: 2024-10-16 16:29:05 -0400 (Wed, 16 Oct 2024) EllapsedTime: 33.8 seconds RetCode: 0 Status: OK