Package: HicAggR Version: 1.0.0 Command: /home/biocbuild/R/R-beta-2024-04-15_r86425/bin/R CMD build --keep-empty-dirs --no-resave-data HicAggR StartedAt: 2024-05-09 00:55:26 -0000 (Thu, 09 May 2024) EndedAt: 2024-05-09 01:03:33 -0000 (Thu, 09 May 2024) EllapsedTime: 487.7 seconds RetCode: 0 Status: OK PackageFile: HicAggR_1.0.0.tar.gz PackageFileSize: 2.926 MiB