Package: HicAggR Version: 1.0.0 Command: /home/biocbuild/R/R-beta-2024-04-15_r86425/bin/R CMD INSTALL HicAggR StartedAt: 2024-05-08 20:22:05 -0000 (Wed, 08 May 2024) EndedAt: 2024-05-08 20:22:43 -0000 (Wed, 08 May 2024) EllapsedTime: 37.9 seconds RetCode: 0 Status: OK