Package: HicAggR Version: 1.0.2 Command: /Library/Frameworks/R.framework/Resources/bin/R CMD INSTALL HicAggR StartedAt: 2024-06-09 15:18:14 -0400 (Sun, 09 Jun 2024) EndedAt: 2024-06-09 15:18:50 -0400 (Sun, 09 Jun 2024) EllapsedTime: 36.1 seconds RetCode: 0 Status: OK