Package: HicAggR Version: 1.0.2 Command: /Library/Frameworks/R.framework/Resources/bin/R CMD build --keep-empty-dirs --no-resave-data HicAggR StartedAt: 2024-10-16 19:58:34 -0400 (Wed, 16 Oct 2024) EndedAt: 2024-10-16 20:09:15 -0400 (Wed, 16 Oct 2024) EllapsedTime: 640.6 seconds RetCode: 0 Status: OK PackageFile: HicAggR_1.0.2.tar.gz PackageFileSize: 3.331 MiB