Package: HicAggR Version: 1.0.2 Command: rm -rf HicAggR.buildbin-libdir && mkdir HicAggR.buildbin-libdir && E:\biocbuild\bbs-3.19-bioc\R\bin\R.exe CMD INSTALL --build --library=HicAggR.buildbin-libdir HicAggR_1.0.2.tar.gz StartedAt: 2024-10-17 07:57:02 -0400 (Thu, 17 Oct 2024) EndedAt: 2024-10-17 07:57:43 -0400 (Thu, 17 Oct 2024) EllapsedTime: 41.2 seconds RetCode: 0 Status: OK PackageFile: HicAggR_1.0.2.zip PackageFileSize: 2.92 MiB