Package: HumanTranscriptomeCompendium Version: 1.20.0 Command: rm -rf HumanTranscriptomeCompendium.buildbin-libdir && mkdir HumanTranscriptomeCompendium.buildbin-libdir && /Users/biocbuild/BBS/utils/build-universal.sh HumanTranscriptomeCompendium_1.20.0.tar.gz /Library/Frameworks/R.framework/Resources/bin/R HumanTranscriptomeCompendium.buildbin-libdir StartedAt: 2024-10-18 18:57:05 -0400 (Fri, 18 Oct 2024) EndedAt: 2024-10-18 18:57:37 -0400 (Fri, 18 Oct 2024) EllapsedTime: 31.9 seconds RetCode: 0 Status: OK PackageFile: HumanTranscriptomeCompendium_1.20.0.tgz PackageFileSize: 2.105 MiB