Package: HumanTranscriptomeCompendium Version: 1.20.0 Command: /Library/Frameworks/R.framework/Resources/bin/R CMD check --install=check:HumanTranscriptomeCompendium.install-out.txt --library=/Library/Frameworks/R.framework/Resources/library --no-vignettes --timings HumanTranscriptomeCompendium_1.20.0.tar.gz StartedAt: 2024-10-18 00:46:50 -0400 (Fri, 18 Oct 2024) EndedAt: 2024-10-18 00:50:55 -0400 (Fri, 18 Oct 2024) EllapsedTime: 244.5 seconds RetCode: 0 Status: OK CheckDir: HumanTranscriptomeCompendium.Rcheck Warnings: 0