Package: HumanTranscriptomeCompendium Version: 1.20.0 Command: /Library/Frameworks/R.framework/Resources/bin/R CMD build --keep-empty-dirs --no-resave-data HumanTranscriptomeCompendium StartedAt: 2024-10-16 20:04:39 -0400 (Wed, 16 Oct 2024) EndedAt: 2024-10-16 20:06:38 -0400 (Wed, 16 Oct 2024) EllapsedTime: 119.0 seconds RetCode: 0 Status: OK PackageFile: HumanTranscriptomeCompendium_1.20.0.tar.gz PackageFileSize: 2.801 MiB