Package: HumanTranscriptomeCompendium Version: 1.20.0 Command: rm -rf HumanTranscriptomeCompendium.buildbin-libdir && mkdir HumanTranscriptomeCompendium.buildbin-libdir && E:\biocbuild\bbs-3.19-bioc\R\bin\R.exe CMD INSTALL --build --library=HumanTranscriptomeCompendium.buildbin-libdir HumanTranscriptomeCompendium_1.20.0.tar.gz StartedAt: 2024-10-17 07:58:04 -0400 (Thu, 17 Oct 2024) EndedAt: 2024-10-17 08:06:05 -0400 (Thu, 17 Oct 2024) EllapsedTime: 481.4 seconds RetCode: 0 Status: OK PackageFile: HumanTranscriptomeCompendium_1.20.0.zip PackageFileSize: 1.9 MiB