Package: IHW Version: 1.32.0 Command: /Library/Frameworks/R.framework/Resources/bin/R CMD check --install=check:IHW.install-out.txt --library=/Library/Frameworks/R.framework/Resources/library --no-vignettes --timings IHW_1.32.0.tar.gz StartedAt: 2024-10-18 01:01:44 -0400 (Fri, 18 Oct 2024) EndedAt: 2024-10-18 01:02:53 -0400 (Fri, 18 Oct 2024) EllapsedTime: 69.5 seconds RetCode: 0 Status: OK CheckDir: IHW.Rcheck Warnings: 0