Package: IHW Version: 1.32.0 Command: rm -rf IHW.buildbin-libdir && mkdir IHW.buildbin-libdir && /Users/biocbuild/BBS/utils/build-universal.sh IHW_1.32.0.tar.gz /Library/Frameworks/R.framework/Resources/bin/R IHW.buildbin-libdir StartedAt: 2024-10-17 16:23:19 -0400 (Thu, 17 Oct 2024) EndedAt: 2024-10-17 16:23:34 -0400 (Thu, 17 Oct 2024) EllapsedTime: 14.1 seconds RetCode: 0 Status: OK PackageFile: IHW_1.32.0.tgz PackageFileSize: 4.992 MiB