Package: IHW Version: 1.32.0 Command: /Library/Frameworks/R.framework/Resources/bin/R CMD check --install=check:IHW.install-out.txt --library=/Library/Frameworks/R.framework/Resources/library --no-vignettes --timings IHW_1.32.0.tar.gz StartedAt: 2024-10-17 06:55:16 -0400 (Thu, 17 Oct 2024) EndedAt: 2024-10-17 06:57:08 -0400 (Thu, 17 Oct 2024) EllapsedTime: 112.3 seconds RetCode: 0 Status: OK CheckDir: IHW.Rcheck Warnings: 0