Package: IHW Version: 1.32.0 Command: rm -rf IHW.buildbin-libdir && mkdir IHW.buildbin-libdir && E:\biocbuild\bbs-3.19-bioc\R\bin\R.exe CMD INSTALL --build --library=IHW.buildbin-libdir IHW_1.32.0.tar.gz StartedAt: 2024-10-17 07:59:01 -0400 (Thu, 17 Oct 2024) EndedAt: 2024-10-17 07:59:31 -0400 (Thu, 17 Oct 2024) EllapsedTime: 30.4 seconds RetCode: 0 Status: OK PackageFile: IHW_1.32.0.zip PackageFileSize: 1.621 MiB