Package: IMAS Version: 1.28.0 Command: /Library/Frameworks/R.framework/Resources/bin/R CMD build --keep-empty-dirs --no-resave-data IMAS StartedAt: 2024-06-09 16:59:57 -0400 (Sun, 09 Jun 2024) EndedAt: 2024-06-09 17:01:59 -0400 (Sun, 09 Jun 2024) EllapsedTime: 121.5 seconds RetCode: 0 Status: OK PackageFile: IMAS_1.28.0.tar.gz PackageFileSize: 601.4 KiB