Package: IMAS Version: 1.28.0 Command: /Library/Frameworks/R.framework/Resources/bin/R CMD INSTALL IMAS StartedAt: 2024-10-16 16:27:59 -0400 (Wed, 16 Oct 2024) EndedAt: 2024-10-16 16:29:27 -0400 (Wed, 16 Oct 2024) EllapsedTime: 88.4 seconds RetCode: 0 Status: OK