Package: IMMAN Version: 1.24.0 Maintainer: Minoo Ashtiani MaintainerEmail: ashtiani.minoo at gmail.com git_url: https://git.bioconductor.org/packages/IMMAN git_branch: RELEASE_3_19 git_last_commit: a405322 git_last_commit_date: 2024-04-30 11:05:04 -0400 (Tue, 30 Apr 2024)