Package: INPower Version: 1.40.0 Command: /Library/Frameworks/R.framework/Resources/bin/R CMD build --keep-empty-dirs --no-resave-data INPower StartedAt: 2024-10-17 02:52:30 -0400 (Thu, 17 Oct 2024) EndedAt: 2024-10-17 02:52:42 -0400 (Thu, 17 Oct 2024) EllapsedTime: 11.3 seconds RetCode: 0 Status: OK PackageFile: INPower_1.40.0.tar.gz PackageFileSize: 146.8 KiB