Package: INPower Version: 1.40.0 Command: /Library/Frameworks/R.framework/Resources/bin/R CMD check --install=check:INPower.install-out.txt --library=/Library/Frameworks/R.framework/Resources/library --no-vignettes --timings INPower_1.40.0.tar.gz StartedAt: 2024-10-18 01:14:04 -0400 (Fri, 18 Oct 2024) EndedAt: 2024-10-18 01:14:28 -0400 (Fri, 18 Oct 2024) EllapsedTime: 23.7 seconds RetCode: 0 Status: OK CheckDir: INPower.Rcheck Warnings: 0