Package: INPower Version: 1.40.0 Command: /Library/Frameworks/R.framework/Resources/bin/R CMD check --install=check:INPower.install-out.txt --library=/Library/Frameworks/R.framework/Resources/library --no-vignettes --timings INPower_1.40.0.tar.gz StartedAt: 2024-06-10 19:15:45 -0400 (Mon, 10 Jun 2024) EndedAt: 2024-06-10 19:16:28 -0400 (Mon, 10 Jun 2024) EllapsedTime: 42.6 seconds RetCode: 0 Status: OK CheckDir: INPower.Rcheck Warnings: 0