Package: INPower Version: 1.40.0 Command: /home/biocbuild/R/R-beta-2024-04-15_r86425/bin/R CMD build --keep-empty-dirs --no-resave-data INPower StartedAt: 2024-05-09 01:05:57 -0000 (Thu, 09 May 2024) EndedAt: 2024-05-09 01:06:04 -0000 (Thu, 09 May 2024) EllapsedTime: 6.0 seconds RetCode: 0 Status: OK PackageFile: INPower_1.40.0.tar.gz PackageFileSize: 142.2 KiB