Package: INPower Version: 1.40.0 Command: /home/biocbuild/bbs-3.19-bioc/R/bin/R CMD build --keep-empty-dirs --no-resave-data INPower StartedAt: 2024-10-16 19:04:30 -0400 (Wed, 16 Oct 2024) EndedAt: 2024-10-16 19:04:35 -0400 (Wed, 16 Oct 2024) EllapsedTime: 5.0 seconds RetCode: 0 Status: OK PackageFile: INPower_1.40.0.tar.gz PackageFileSize: 66.08 KiB