Package: INPower Version: 1.40.0 Command: chmod a+r INPower -R && E:\biocbuild\bbs-3.19-bioc\R\bin\R.exe CMD build --keep-empty-dirs --no-resave-data INPower StartedAt: 2024-10-16 19:50:26 -0400 (Wed, 16 Oct 2024) EndedAt: 2024-10-16 19:50:36 -0400 (Wed, 16 Oct 2024) EllapsedTime: 9.9 seconds RetCode: 0 Status: OK PackageFile: INPower_1.40.0.tar.gz PackageFileSize: 66.67 KiB