Package: INPower Version: 1.40.0 Command: E:\biocbuild\bbs-3.19-bioc\R\bin\R.exe CMD check --no-multiarch --install=check:INPower.install-out.txt --library=E:\biocbuild\bbs-3.19-bioc\R\library --no-vignettes --timings INPower_1.40.0.tar.gz StartedAt: 2024-10-17 02:31:31 -0400 (Thu, 17 Oct 2024) EndedAt: 2024-10-17 02:31:57 -0400 (Thu, 17 Oct 2024) EllapsedTime: 26.2 seconds RetCode: 0 Status: OK CheckDir: INPower.Rcheck Warnings: 0