Package: INSPEcT Version: 1.34.0 Command: rm -rf INSPEcT.buildbin-libdir && mkdir INSPEcT.buildbin-libdir && /Users/biocbuild/BBS/utils/build-universal.sh INSPEcT_1.34.0.tar.gz /Library/Frameworks/R.framework/Resources/bin/R INSPEcT.buildbin-libdir StartedAt: 2024-10-15 18:34:04 -0400 (Tue, 15 Oct 2024) EndedAt: 2024-10-15 18:35:43 -0400 (Tue, 15 Oct 2024) EllapsedTime: 99.5 seconds RetCode: 0 Status: OK PackageFile: INSPEcT_1.34.0.tgz PackageFileSize: 59.52 MiB