Package: INSPEcT Version: 1.34.0 Command: /home/biocbuild/bbs-3.19-bioc/R/bin/R CMD build --keep-empty-dirs --no-resave-data INSPEcT StartedAt: 2024-10-16 19:04:31 -0400 (Wed, 16 Oct 2024) EndedAt: 2024-10-16 19:11:19 -0400 (Wed, 16 Oct 2024) EllapsedTime: 408.8 seconds RetCode: 0 Status: OK PackageFile: INSPEcT_1.34.0.tar.gz PackageFileSize: 7.633 MiB