Package: INSPEcT Version: 1.34.0 Command: chmod a+r INSPEcT -R && F:\biocbuild\bbs-3.19-bioc\R\bin\R.exe CMD build --keep-empty-dirs --no-resave-data INSPEcT StartedAt: 2024-06-26 19:35:51 -0400 (Wed, 26 Jun 2024) EndedAt: 2024-06-26 19:46:03 -0400 (Wed, 26 Jun 2024) EllapsedTime: 612.6 seconds RetCode: 0 Status: OK PackageFile: INSPEcT_1.34.0.tar.gz PackageFileSize: 7.045 MiB