Package: INSPEcT Version: 1.34.0 Command: chmod a+r INSPEcT -R && E:\biocbuild\bbs-3.19-bioc\R\bin\R.exe CMD build --keep-empty-dirs --no-resave-data INSPEcT StartedAt: 2024-10-16 19:50:27 -0400 (Wed, 16 Oct 2024) EndedAt: 2024-10-16 19:58:53 -0400 (Wed, 16 Oct 2024) EllapsedTime: 506.2 seconds RetCode: 0 Status: OK PackageFile: INSPEcT_1.34.0.tar.gz PackageFileSize: 7.045 MiB