Package: IRISFGM Version: 1.12.0 Command: /home/biocbuild/R/R-beta-2024-04-15_r86425/bin/R CMD build --keep-empty-dirs --no-resave-data IRISFGM StartedAt: 2024-05-09 01:09:41 -0000 (Thu, 09 May 2024) EndedAt: 2024-05-09 01:12:23 -0000 (Thu, 09 May 2024) EllapsedTime: 162.2 seconds RetCode: 1 Status: ERROR PackageFile: None PackageFileSize: NA