Package: IRISFGM Version: 1.12.0 Command: /home/biocbuild/R/R-beta-2024-04-15_r86425/bin/R CMD INSTALL IRISFGM StartedAt: 2024-05-08 21:04:35 -0000 (Wed, 08 May 2024) EndedAt: 2024-05-08 21:06:28 -0000 (Wed, 08 May 2024) EllapsedTime: 113.2 seconds RetCode: 0 Status: OK