Package: IRISFGM Version: 1.11.0 Command: rm -rf IRISFGM.buildbin-libdir && mkdir IRISFGM.buildbin-libdir && /Users/biocbuild/BBS/utils/build-universal.sh IRISFGM_1.11.0.tar.gz /Library/Frameworks/R.framework/Resources/bin/R IRISFGM.buildbin-libdir StartedAt: 2023-11-04 09:15:56 -0400 (Sat, 04 Nov 2023) EndedAt: 2023-11-04 09:21:47 -0400 (Sat, 04 Nov 2023) EllapsedTime: 350.6 seconds RetCode: 0 Status: OK PackageFile: IRISFGM_1.11.0.tgz PackageFileSize: 2.697 MiB