Package: IRISFGM Version: 1.11.0 Command: rm -rf IRISFGM.buildbin-libdir && mkdir IRISFGM.buildbin-libdir && F:\biocbuild\bbs-3.19-bioc\R\bin\R.exe CMD INSTALL --build --library=IRISFGM.buildbin-libdir IRISFGM_1.11.0.tar.gz StartedAt: 2023-11-04 10:14:11 -0400 (Sat, 04 Nov 2023) EndedAt: 2023-11-04 10:16:35 -0400 (Sat, 04 Nov 2023) EllapsedTime: 144.2 seconds RetCode: 0 Status: OK PackageFile: IRISFGM_1.11.0.zip PackageFileSize: 2.259 MiB