Package: IRISFGM Version: 1.11.0 Command: F:\biocbuild\bbs-3.19-bioc\R\bin\R.exe CMD check --no-multiarch --install=check:IRISFGM.install-out.txt --library=F:\biocbuild\bbs-3.19-bioc\R\library --no-vignettes --timings IRISFGM_1.11.0.tar.gz StartedAt: 2023-11-04 04:07:09 -0400 (Sat, 04 Nov 2023) EndedAt: 2023-11-04 04:18:17 -0400 (Sat, 04 Nov 2023) EllapsedTime: 668.0 seconds RetCode: 0 Status: WARNINGS CheckDir: IRISFGM.Rcheck Warnings: 1