Package: IRanges Version: 2.38.1 Maintainer: Hervé Pagès MaintainerEmail: hpages.on.github at gmail.com git_url: https://git.bioconductor.org/packages/IRanges git_branch: RELEASE_3_19 git_last_commit: d4d8da9 git_last_commit_date: 2024-07-03 12:55:41 -0400 (Wed, 03 Jul 2024)