Package: IRanges Version: 2.38.1 Command: rm -rf IRanges.buildbin-libdir && mkdir IRanges.buildbin-libdir && /Users/biocbuild/BBS/utils/build-universal.sh IRanges_2.38.1.tar.gz /Library/Frameworks/R.framework/Resources/bin/R IRanges.buildbin-libdir StartedAt: 2024-10-18 19:03:39 -0400 (Fri, 18 Oct 2024) EndedAt: 2024-10-18 19:05:04 -0400 (Fri, 18 Oct 2024) EllapsedTime: 85.2 seconds RetCode: 0 Status: OK PackageFile: IRanges_2.38.1.tgz PackageFileSize: 2.211 MiB