Package: IRanges Version: 2.38.1 Command: /Library/Frameworks/R.framework/Resources/bin/R CMD build --keep-empty-dirs --no-resave-data IRanges StartedAt: 2024-10-17 02:58:17 -0400 (Thu, 17 Oct 2024) EndedAt: 2024-10-17 02:59:53 -0400 (Thu, 17 Oct 2024) EllapsedTime: 96.5 seconds RetCode: 0 Status: OK PackageFile: IRanges_2.38.1.tar.gz PackageFileSize: 469.9 KiB