Package: IRanges Version: 2.38.1 Command: /Library/Frameworks/R.framework/Resources/bin/R CMD check --install=check:IRanges.install-out.txt --library=/Library/Frameworks/R.framework/Resources/library --no-vignettes --timings IRanges_2.38.1.tar.gz StartedAt: 2024-10-18 01:31:28 -0400 (Fri, 18 Oct 2024) EndedAt: 2024-10-18 01:34:35 -0400 (Fri, 18 Oct 2024) EllapsedTime: 186.6 seconds RetCode: 0 Status: WARNINGS CheckDir: IRanges.Rcheck Warnings: 5