Package: IRanges Version: 2.38.1 Command: /Library/Frameworks/R.framework/Resources/bin/R CMD INSTALL IRanges StartedAt: 2024-10-16 15:40:21 -0400 (Wed, 16 Oct 2024) EndedAt: 2024-10-16 15:41:30 -0400 (Wed, 16 Oct 2024) EllapsedTime: 69.1 seconds RetCode: 0 Status: OK