Package: IRanges Version: 2.38.0 Command: /Library/Frameworks/R.framework/Resources/bin/R CMD check --install=check:IRanges.install-out.txt --library=/Library/Frameworks/R.framework/Resources/library --no-vignettes --timings IRanges_2.38.0.tar.gz StartedAt: 2024-06-10 19:28:29 -0400 (Mon, 10 Jun 2024) EndedAt: 2024-06-10 19:33:50 -0400 (Mon, 10 Jun 2024) EllapsedTime: 320.5 seconds RetCode: 0 Status: WARNINGS CheckDir: IRanges.Rcheck Warnings: 5