Package: IRanges Version: 2.38.0 Command: /Library/Frameworks/R.framework/Resources/bin/R CMD INSTALL IRanges StartedAt: 2024-06-09 15:06:30 -0400 (Sun, 09 Jun 2024) EndedAt: 2024-06-09 15:07:56 -0400 (Sun, 09 Jun 2024) EllapsedTime: 86.6 seconds RetCode: 0 Status: OK