Package: IRanges Version: 2.38.0 Command: rm -rf IRanges.buildbin-libdir && mkdir IRanges.buildbin-libdir && /Users/biocbuild/BBS/utils/build-universal.sh IRanges_2.38.0.tar.gz /Library/Frameworks/R.framework/Resources/bin/R IRanges.buildbin-libdir StartedAt: 2024-06-10 00:23:31 -0400 (Mon, 10 Jun 2024) EndedAt: 2024-06-10 00:24:56 -0400 (Mon, 10 Jun 2024) EllapsedTime: 85.3 seconds RetCode: 0 Status: OK PackageFile: IRanges_2.38.0.tgz PackageFileSize: 2.215 MiB