Package: IRanges Version: 2.38.1 Command: /Library/Frameworks/R.framework/Resources/bin/R CMD build --keep-empty-dirs --no-resave-data IRanges StartedAt: 2024-10-16 20:15:12 -0400 (Wed, 16 Oct 2024) EndedAt: 2024-10-16 20:18:30 -0400 (Wed, 16 Oct 2024) EllapsedTime: 197.2 seconds RetCode: 0 Status: OK PackageFile: IRanges_2.38.1.tar.gz PackageFileSize: 469.8 KiB