Package: IRanges Version: 2.38.1 Command: /Library/Frameworks/R.framework/Resources/bin/R CMD check --install=check:IRanges.install-out.txt --library=/Library/Frameworks/R.framework/Resources/library --no-vignettes --timings IRanges_2.38.1.tar.gz StartedAt: 2024-10-17 07:05:58 -0400 (Thu, 17 Oct 2024) EndedAt: 2024-10-17 07:14:11 -0400 (Thu, 17 Oct 2024) EllapsedTime: 492.5 seconds RetCode: 0 Status: WARNINGS CheckDir: IRanges.Rcheck Warnings: 5