Package: IRanges Version: 2.38.1 Command: chmod a+r IRanges -R && E:\biocbuild\bbs-3.19-bioc\R\bin\R.exe CMD build --keep-empty-dirs --no-resave-data IRanges StartedAt: 2024-10-16 19:52:43 -0400 (Wed, 16 Oct 2024) EndedAt: 2024-10-16 19:55:00 -0400 (Wed, 16 Oct 2024) EllapsedTime: 137.7 seconds RetCode: 0 Status: OK PackageFile: IRanges_2.38.1.tar.gz PackageFileSize: 470.1 KiB