Package: IRanges Version: 2.38.1 Command: E:\biocbuild\bbs-3.19-bioc\R\bin\R.exe CMD check --no-multiarch --install=check:IRanges.install-out.txt --library=E:\biocbuild\bbs-3.19-bioc\R\library --no-vignettes --timings IRanges_2.38.1.tar.gz StartedAt: 2024-10-17 02:35:47 -0400 (Thu, 17 Oct 2024) EndedAt: 2024-10-17 02:39:27 -0400 (Thu, 17 Oct 2024) EllapsedTime: 220.1 seconds RetCode: 0 Status: WARNINGS CheckDir: IRanges.Rcheck Warnings: 3