Package: IRanges Version: 2.38.1 Command: E:\biocbuild\bbs-3.19-bioc\R\bin\R.exe CMD INSTALL IRanges StartedAt: 2024-10-16 16:05:00 -0400 (Wed, 16 Oct 2024) EndedAt: 2024-10-16 16:07:41 -0400 (Wed, 16 Oct 2024) EllapsedTime: 160.5 seconds RetCode: 0 Status: OK